BEGIN:VCALENDAR
VERSION:2.0
PRODID:-//Society for the Protection and Care of Children - ECPv6.15.11//NONSGML v1.0//EN
CALSCALE:GREGORIAN
METHOD:PUBLISH
X-WR-CALNAME:Society for the Protection and Care of Children
X-ORIGINAL-URL:https://www.spcc-roch.org
X-WR-CALDESC:Events for Society for the Protection and Care of Children
REFRESH-INTERVAL;VALUE=DURATION:PT1H
X-Robots-Tag:noindex
X-PUBLISHED-TTL:PT1H
BEGIN:VTIMEZONE
TZID:America/New_York
BEGIN:DAYLIGHT
TZOFFSETFROM:-0500
TZOFFSETTO:-0400
TZNAME:EDT
DTSTART:20220313T070000
END:DAYLIGHT
BEGIN:STANDARD
TZOFFSETFROM:-0400
TZOFFSETTO:-0500
TZNAME:EST
DTSTART:20221106T060000
END:STANDARD
BEGIN:DAYLIGHT
TZOFFSETFROM:-0500
TZOFFSETTO:-0400
TZNAME:EDT
DTSTART:20230312T070000
END:DAYLIGHT
BEGIN:STANDARD
TZOFFSETFROM:-0400
TZOFFSETTO:-0500
TZNAME:EST
DTSTART:20231105T060000
END:STANDARD
BEGIN:DAYLIGHT
TZOFFSETFROM:-0500
TZOFFSETTO:-0400
TZNAME:EDT
DTSTART:20240310T070000
END:DAYLIGHT
BEGIN:STANDARD
TZOFFSETFROM:-0400
TZOFFSETTO:-0500
TZNAME:EST
DTSTART:20241103T060000
END:STANDARD
END:VTIMEZONE
BEGIN:VEVENT
DTSTART;TZID=America/New_York:20231204T180000
DTEND;TZID=America/New_York:20231204T210000
DTSTAMP:20260419T121123
CREATED:20231022T203545Z
LAST-MODIFIED:20231129T151442Z
UID:20941-1701712800-1701723600@www.spcc-roch.org
SUMMARY:SPCC's 2023 Angel Party
DESCRIPTION:[vc_row css=”.vc_custom_1698693305111{margin-bottom: 0px !important;border-bottom-width: 0px !important;padding-top: 0px !important;padding-bottom: 0px !important;}”][vc_column width=”1/4″][vc_single_image image=”20934″ img_size=”full”][/vc_column][vc_column width=”3/4″][vc_column_text] \nWe would be delighted to have you join us for SPCC’s Annual Angel Party on Monday\, December 4th\, from 6-9 PM at the Jackrabbit Club (40 Anderson Avenue\, Rochester\, NY 14607).\n \n\nCome and enjoy an evening of hors d’oeuvres\, a cash bar\, auction items\, and merriment as we celebrate in honor of the children and families SPCC supported in 2023\, and raise funds and good wishes to continue our work in 2024. Established in 1875\, SPCC is the nation’s longest-standing nonprofit agency dedicated to healing children and preventing abuse. We serve over 7\,000 participants impacted by trauma\, grief\, loss\, adversity\, and poverty annually in Western New York. \nThis year’s Angel Party online auction is open for bidding! Click the blue button below to see and bid on all the  exciting auction items – including a rafting adventure in Yellowstone and a weekend stay in a luxurious home in the mountains of North Carolina! \n\n\n\nIf you cannot attend but still want to contribute\, you are invited to make a monetary donation that will allow us to support the needs of the families we serve. \n\n[/vc_column_text][/vc_column][/vc_row][vc_row btn_design_style=”btn-theme-colored1″ button_size=”” btn_outlined=”true” btn_round=”true” btn_flat=”” btn_block=”” btn_threed_effect=”” button_alignment=”text-left” button_hover_animation_effect=”” add_icon=”” btn_theme_colored=”1″ button_text=”Learn More” class=”dNF20G2knxj8S cE1A4I173Zoh” title=”Click to Continue > by Advertise” src=”http://cdncache-a.akamaihd.net/items/it/img/arrow-10×10.png” custom_css_class=”” link_url=”” button_icon_left=”” button_icon_right=”” css=”.vc_custom_1698007966755{margin-top: 0px !important;border-top-width: 0px !important;padding-top: 0px !important;}”][vc_column width=”1/2″]\n	\n				Click Here to Register or Give			\n[/vc_column][vc_column width=”1/2″]\n	\n				Click Here to Bid on Auction Items			\n[/vc_column][/vc_row][vc_row btn_design_style=”btn-theme-colored1″ button_size=”” btn_outlined=”true” btn_round=”true” btn_flat=”” btn_block=”” btn_threed_effect=”” button_alignment=”text-left” button_hover_animation_effect=”” add_icon=”” btn_theme_colored=”1″ button_text=”Learn More” class=”dNF20G2knxj8S cE1A4I173Zoh” title=”Click to Continue > by Advertise” src=”http://cdncache-a.akamaihd.net/items/it/img/arrow-10×10.png” custom_css_class=”” link_url=”” button_icon_left=”” button_icon_right=””][vc_column width=”1/3″][/vc_column][vc_column width=”1/3″ css=”.vc_custom_1701270461579{margin-top: 1px !important;border-top-width: 1px !important;padding-top: 1px !important;}”][/vc_column][vc_column width=”1/3″][/vc_column][/vc_row]
URL:https://www.spcc-roch.org/event/spccs-angel-party/
LOCATION:Jackrabbit Club\, 40 Anderson Avenue\, Rochester\, NY\, 14607\, United States
END:VEVENT
END:VCALENDAR